BEGIN:VCALENDAR
VERSION:2.0
PRODID:-//ChamberMaster//Event Calendar 2.0//EN
METHOD:PUBLISH
X-PUBLISHED-TTL:P3D
REFRESH-INTERVAL:P3D
CALSCALE:GREGORIAN
BEGIN:VEVENT
DTSTART:20180228T140000Z
DTEND:20180228T150000Z
X-MICROSOFT-CDO-ALLDAYEVENT:FALSE
SUMMARY:Win Shape Community Leaders Breakfast
DESCRIPTION:Win Shape Community Leaders Breakfast
X-ALT-DESC;FMTTYPE=text/html:Win Shape Community Leaders Breakfast
LOCATION:Chick-fil-a Gaffney 1704 West Floyd Baker Blvd.
UID:e.1277.3081
SEQUENCE:3
DTSTAMP:20260425T123600Z
URL:http://services.cherokeechamber.org/events/details/win-shape-community-leaders-breakfast-3081
END:VEVENT

END:VCALENDAR
