BEGIN:VCALENDAR
VERSION:2.0
PRODID:-//ChamberMaster//Event Calendar 2.0//EN
METHOD:PUBLISH
X-PUBLISHED-TTL:P3D
REFRESH-INTERVAL:P3D
CALSCALE:GREGORIAN
BEGIN:VEVENT
DTSTART:20230917T140000Z
DTEND:20230917T200000Z
X-MICROSOFT-CDO-ALLDAYEVENT:FALSE
SUMMARY:Wellness Weekend
DESCRIPTION:Join us to celebrate International Wellness Weekend. We're still looking for vendors to join us!!\n\n\n\nOur therapy booth will be open for discounted sessions: halotherapy (salt therapy)\, infrared sauna\, and red light therapy. \n\n\n\nWe'll be doing postural analysis and mini massages.
X-ALT-DESC;FMTTYPE=text/html:Join us to celebrate International Wellness Weekend. We&#39\;re still looking for vendors to join us!!<br />\n<br />\nOur therapy booth will be open for discounted sessions: halotherapy (salt therapy)\, infrared sauna\, and red light therapy.&nbsp\;<br />\n<br />\nWe&#39\;ll be doing postural analysis and mini massages.
LOCATION:310 N. Limestone St UNIT B In the alley between the Capri Theater and the Peach City Brewery
UID:e.1277.7580
SEQUENCE:3
DTSTAMP:20260421T025418Z
URL:http://services.cherokeechamber.org/events/details/wellness-weekend-09-17-2023-7580
END:VEVENT

END:VCALENDAR
