BEGIN:VCALENDAR
VERSION:2.0
PRODID:-//ChamberMaster//Event Calendar 2.0//EN
METHOD:PUBLISH
X-PUBLISHED-TTL:P3D
REFRESH-INTERVAL:P3D
CALSCALE:GREGORIAN
BEGIN:VEVENT
DTSTART:20171104T223000Z
DTEND:20171105T003000Z
X-MICROSOFT-CDO-ALLDAYEVENT:FALSE
SUMMARY:Voice of Hope Benefit Concert
DESCRIPTION:Voice of Hope Benefit Concert Proceeds go to Cherokee County Meals on Wheels\, Cherokee Children's  Home and Mobile Meals of Spartanburg
X-ALT-DESC;FMTTYPE=text/html:Voice of Hope Benefit Concert Proceeds go to Cherokee County Meals on Wheels\, Cherokee Children&#39\;s&nbsp\; Home and Mobile Meals of Spartanburg
LOCATION:Capri on Main 302 North Limestone Street
UID:e.1277.3043
SEQUENCE:3
DTSTAMP:20260425T162257Z
URL:http://services.cherokeechamber.org/events/details/voice-of-hope-benefit-concert-3043
END:VEVENT

END:VCALENDAR
