BEGIN:VCALENDAR
VERSION:2.0
PRODID:-//ChamberMaster//Event Calendar 2.0//EN
METHOD:PUBLISH
X-PUBLISHED-TTL:P3D
REFRESH-INTERVAL:P3D
CALSCALE:GREGORIAN
BEGIN:VEVENT
DTSTART:20181116T180000Z
DTEND:20181116T190000Z
X-MICROSOFT-CDO-ALLDAYEVENT:FALSE
SUMMARY:Veterans Honor Wall Ribbon Cutting Ceremony
DESCRIPTION:Magnolias of Gaffney along with Cherokee County Veterans Affairs Office will be holding a ribbon cutting ceremony of the new Honor Wall for our Residents who have served. Following the ceremony\, join us for a presentation on the Veterans Aid & Attendance Benefit. Hospice Care of South Carolina will also be present to do a pinning ceremony for our Veterans. Light refreshments will be served.
X-ALT-DESC;FMTTYPE=text/html:Magnolias of Gaffney along with Cherokee County Veterans Affairs Office will be holding a ribbon cutting ceremony of the new Honor Wall for our Residents who have served. Following the ceremony\, join us for a presentation on the Veterans Aid &amp\; Attendance Benefit. Hospice Care of South Carolina will also be present to do a pinning ceremony for our Veterans. Light refreshments will be served.
LOCATION:Magnolias of Gaffney 101 Park Court\, Gaffney\, SC
UID:e.1277.4516
SEQUENCE:3
DTSTAMP:20260425T011128Z
URL:http://services.cherokeechamber.org/events/details/veterans-honor-wall-ribbon-cutting-ceremony-4516
END:VEVENT

END:VCALENDAR
