BEGIN:VCALENDAR
VERSION:2.0
PRODID:-//ChamberMaster//Event Calendar 2.0//EN
METHOD:PUBLISH
X-PUBLISHED-TTL:P3D
REFRESH-INTERVAL:P3D
CALSCALE:GREGORIAN
BEGIN:VEVENT
DTSTART:20190228T140000Z
DTEND:20190228T150000Z
X-MICROSOFT-CDO-ALLDAYEVENT:FALSE
SUMMARY:Upstate Workforce Board presents Reasonable Accommodations
DESCRIPTION:Upstate Workforce Board along with SC VOC REHAB and ABLE SC presents an informative session on Reasonable Accommodations. \n\n\nAt this training\, employers will learn about:\n\n-Different types of accommodations\, and how inexpensive they often are\n\n-Their role in the accommodations process\n\n-How to navigate employment laws of the Americans with Disabilities Act\n\n-Resources they can use to further understand accommodations\n\n\nJoin us Thursday\, Feb 28\, 2019 9:00a.m.- 10:00 a.m. at the Bryant Center 180 Groce Rd. Lyman\, SC 29365. Invite a friend too!\n\n \n\nRSVP is requested. Email wood@upstateworkforceboard.org if you plan to attend.
X-ALT-DESC;FMTTYPE=text/html:Upstate Workforce Board along with SC VOC REHAB and ABLE SC presents an informative session on Reasonable Accommodations.&nbsp\;\n<blockquote style="color:rgb(34\, 34\, 34)\;font-family:Arial\, Helvetica\, sans-serif\;font-size:small\;font-style:normal\;" type="cite">\n<div dir="ltr">\n<div><span style="color:#1d2129\;"><span style="font-family:helvetica\,sans-serif\;"><span style="font-size:10.5pt\;"><span style="background-image:initial\;background-position:initial\;background-size:initial\;background-repeat:initial\;background-attachment:initial\;background-origin:initial\;background-clip:initial\;">At this training\, employers will learn about:</span><br />\n<span style="background-image:initial\;background-position:initial\;background-size:initial\;background-repeat:initial\;background-attachment:initial\;background-origin:initial\;background-clip:initial\;">-Different types of accommodations\, and how inexpensive they often are</span><br />\n<span style="background-image:initial\;background-position:initial\;background-size:initial\;background-repeat:initial\;background-attachment:initial\;background-origin:initial\;background-clip:initial\;">-Their role in the accommodations process</span><br />\n<span style="background-image:initial\;background-position:initial\;background-size:initial\;background-repeat:initial\;background-attachment:initial\;background-origin:initial\;background-clip:initial\;">-How to navigate employment laws of the Americans with Disabilities Act</span><br />\n<span style="background-image:initial\;background-position:initial\;background-size:initial\;background-repeat:initial\;background-attachment:initial\;background-origin:initial\;background-clip:initial\;">-Resources they can use to further understand accommodations</span></span></span></span>\n<blockquote style="color:rgb(34\, 34\, 34)\;font-family:Arial\, Helvetica\, sans-serif\;font-size:small\;font-style:normal\;" type="cite">\n<div dir="ltr">\n<div><span style="color:#1d2129\;"><span style="font-family:helvetica\,sans-serif\;"><span style="font-size:10.5pt\;"><span style="background-image:initial\;background-position:initial\;background-size:initial\;background-repeat:initial\;background-attachment:initial\;background-origin:initial\;background-clip:initial\;">Join us Thursday\, Feb 28\, 2019 9:00a.m.- 10:00 a.m. at the Bryant Center 180 Groce Rd. Lyman\, SC 29365. Invite a friend too!</span></span></span></span><br />\n&nbsp\;<br />\n<span style="background-image:initial\;background-position:initial\;background-size:initial\;background-repeat:initial\;background-attachment:initial\;background-origin:initial\;background-clip:initial\;"><span style="color:#1d2129\;"><span style="font-family:helvetica\,sans-serif\;"><span style="font-size:10.5pt\;">RSVP is requested. Email&nbsp\;</span></span></span></span><a href="mailto:wood@upstateworkforceboard.org" style="color:rgb(17\, 85\, 204)\;" target="_blank"><span style="background-image:initial\;background-position:initial\;background-size:initial\;background-repeat:initial\;background-attachment:initial\;background-origin:initial\;background-clip:initial\;"><span style="font-family:helvetica\,sans-serif\;"><span style="font-size:10.5pt\;">wood@upstateworkforceboard.org</span></span></span></a><span style="background-image:initial\;background-position:initial\;background-size:initial\;background-repeat:initial\;background-attachment:initial\;background-origin:initial\;background-clip:initial\;"><span style="color:#1d2129\;"><span style="font-family:helvetica\,sans-serif\;"><span style="font-size:10.5pt\;">&nbsp\;if you plan to attend.</span></span></span></span></div>\n</div>\n</blockquote>\n</div>\n</div>\n</blockquote>\n
LOCATION:
UID:e.1277.4552
SEQUENCE:3
DTSTAMP:20260424T193956Z
URL:http://services.cherokeechamber.org/events/details/upstate-workforce-board-presents-reasonable-accommodations-4552
END:VEVENT

END:VCALENDAR
