BEGIN:VCALENDAR
VERSION:2.0
PRODID:-//ChamberMaster//Event Calendar 2.0//EN
METHOD:PUBLISH
X-PUBLISHED-TTL:P3D
REFRESH-INTERVAL:P3D
CALSCALE:GREGORIAN
BEGIN:VEVENT
DTSTART:20171021T160000Z
DTEND:20171021T210000Z
X-MICROSOFT-CDO-ALLDAYEVENT:FALSE
SUMMARY:Unite the Fight
DESCRIPTION:Unite the Fight
X-ALT-DESC;FMTTYPE=text/html:Unite the Fight
LOCATION:N. Limestone St. (Downtown Gaffney)
UID:e.1277.3055
SEQUENCE:3
DTSTAMP:20260425T173012Z
URL:http://services.cherokeechamber.org/events/details/unite-the-fight-3055
END:VEVENT

END:VCALENDAR
