BEGIN:VCALENDAR
VERSION:2.0
PRODID:-//ChamberMaster//Event Calendar 2.0//EN
METHOD:PUBLISH
X-PUBLISHED-TTL:P3D
REFRESH-INTERVAL:P3D
CALSCALE:GREGORIAN
BEGIN:VEVENT
DTSTART:20181031T213000Z
DTEND:20181101T000000Z
X-MICROSOFT-CDO-ALLDAYEVENT:FALSE
SUMMARY:Trick-OR-Treating at the Gaffney Outlet Marketplace
DESCRIPTION:Join Gaffney Outlet Marketplace for tricking and treating at our retailers beginning at 5:30 p.m. til 8:00 p.m. Fun added activities for the kids at our food court.
X-ALT-DESC;FMTTYPE=text/html:<span style="color: rgb(29\, 33\, 41)\; font-family: Helvetica\, Arial\, sans-serif\; font-size: 14px\;">Join Gaffney Outlet Marketplace for tricking and treating at our retailers beginning at 5:30 p.m. til 8:00 p.m. Fun added activities for the kids at our food court.</span>
LOCATION:
UID:e.1277.4514
SEQUENCE:3
DTSTAMP:20260425T011324Z
URL:http://services.cherokeechamber.org/events/details/trick-or-treating-at-the-gaffney-outlet-marketplace-4514
END:VEVENT

END:VCALENDAR
