BEGIN:VCALENDAR
VERSION:2.0
PRODID:-//ChamberMaster//Event Calendar 2.0//EN
METHOD:PUBLISH
X-PUBLISHED-TTL:P3D
REFRESH-INTERVAL:P3D
CALSCALE:GREGORIAN
BEGIN:VEVENT
DTSTART:20181208T150000Z
DTEND:20181208T230000Z
X-MICROSOFT-CDO-ALLDAYEVENT:FALSE
SUMMARY:Town of Blacksburg's Christmas on the Square
DESCRIPTION:Christmas on the Square\n\n10am-6pm\n\nChristmas Parade 3pm
X-ALT-DESC;FMTTYPE=text/html:Christmas on the Square<br />\n10am-6pm<br />\nChristmas Parade 3pm
LOCATION:
UID:e.1277.4523
SEQUENCE:3
DTSTAMP:20260424T223720Z
URL:http://services.cherokeechamber.org/events/details/town-of-blacksburg-s-christmas-on-the-square-4523
END:VEVENT

END:VCALENDAR
