BEGIN:VCALENDAR
VERSION:2.0
PRODID:-//ChamberMaster//Event Calendar 2.0//EN
METHOD:PUBLISH
X-PUBLISHED-TTL:P3D
REFRESH-INTERVAL:P3D
CALSCALE:GREGORIAN
BEGIN:VEVENT
DTSTART;VALUE=DATE:20170722
DTEND;VALUE=DATE:20170723
TRANSP:TRANSPARENT
X-MICROSOFT-CDO-ALLDAYEVENT:TRUE
SUMMARY:Top Gun 10 U Girls Softball Tournament
DESCRIPTION:Top Gun 10 U Girls Softball Tournament
X-ALT-DESC;FMTTYPE=text/html:<div>Top Gun 10 U Girls Softball Tournament</div>\n
LOCATION:Midway Youth Complex Midway Road Gaffney SC
UID:e.1277.3034
SEQUENCE:3
DTSTAMP:20260425T212818Z
URL:http://services.cherokeechamber.org/events/details/top-gun-10-u-girls-softball-tournament-3034
END:VEVENT

END:VCALENDAR
