BEGIN:VCALENDAR
VERSION:2.0
PRODID:-//ChamberMaster//Event Calendar 2.0//EN
METHOD:PUBLISH
X-PUBLISHED-TTL:P3D
REFRESH-INTERVAL:P3D
CALSCALE:GREGORIAN
BEGIN:VEVENT
DTSTART:20190328T220000Z
DTEND:20190329T000000Z
X-MICROSOFT-CDO-ALLDAYEVENT:FALSE
SUMMARY:The Truth About Dementia vs. Alzheimer's
DESCRIPTION:Presented by Catrina Smith\, CEO of Angelic Services. \n\nRSVP 864-489-1288 or catrinaLconsulting@gmail.com
X-ALT-DESC;FMTTYPE=text/html:Presented by Catrina Smith\, CEO of Angelic Services.&nbsp\;<br />\nRSVP 864-489-1288 or catrinaLconsulting@gmail.com
LOCATION:Dunton United Methodist Church 323 E. Buford St.\, Gaffney\, SC
UID:e.1277.4580
SEQUENCE:3
DTSTAMP:20260424T183745Z
URL:http://services.cherokeechamber.org/events/details/the-truth-about-dementia-vs-alzheimer-s-4580
END:VEVENT

END:VCALENDAR
