BEGIN:VCALENDAR
VERSION:2.0
PRODID:-//ChamberMaster//Event Calendar 2.0//EN
METHOD:PUBLISH
X-PUBLISHED-TTL:P3D
REFRESH-INTERVAL:P3D
CALSCALE:GREGORIAN
BEGIN:VEVENT
DTSTART:20230912T120000Z
DTEND:20230912T130000Z
X-MICROSOFT-CDO-ALLDAYEVENT:FALSE
SUMMARY:The BREW @ BGEN
DESCRIPTION:Monthly Brew Session at BGEN\n\n\n\nA shark tank-type session where local business leaders or new business owners come together to give input and take advice on issues that may arise in the workplace or with business.
X-ALT-DESC;FMTTYPE=text/html:Monthly Brew Session at BGEN<br />\n<br />\nA shark tank-type session where local business leaders or new business owners come together to give input and take advice on issues that may arise in the workplace or with business.&nbsp\;
LOCATION:301 N. Limestone St. Gaffney\, SC 29340
UID:e.1277.7531
SEQUENCE:3
DTSTAMP:20260421T025505Z
URL:http://services.cherokeechamber.org/events/details/the-brew-bgen-09-14-2023-7531
END:VEVENT

END:VCALENDAR
