BEGIN:VCALENDAR
VERSION:2.0
PRODID:-//ChamberMaster//Event Calendar 2.0//EN
METHOD:PUBLISH
X-PUBLISHED-TTL:P3D
REFRESH-INTERVAL:P3D
CALSCALE:GREGORIAN
BEGIN:VEVENT
DTSTART:20190216T000000Z
DTEND:20190216T040000Z
X-MICROSOFT-CDO-ALLDAYEVENT:FALSE
SUMMARY:TEEN NIGHT at Academic Technology and Wellness Academy
DESCRIPTION:
X-ALT-DESC;FMTTYPE=text/html:
LOCATION:122 E. Robinson Street\, Gaffney
UID:e.1277.4547
SEQUENCE:3
DTSTAMP:20260424T195311Z
URL:http://services.cherokeechamber.org/events/details/teen-night-at-academic-technology-and-wellness-academy-4547
END:VEVENT

END:VCALENDAR
