BEGIN:VCALENDAR
VERSION:2.0
PRODID:-//ChamberMaster//Event Calendar 2.0//EN
METHOD:PUBLISH
X-PUBLISHED-TTL:P3D
REFRESH-INTERVAL:P3D
CALSCALE:GREGORIAN
BEGIN:VEVENT
DTSTART:20190315T230000Z
DTEND:20190316T030000Z
X-MICROSOFT-CDO-ALLDAYEVENT:FALSE
SUMMARY:Teen Night
DESCRIPTION:Teen Night at Academic Technology and Wellness Academy\n\nAges 10-15
X-ALT-DESC;FMTTYPE=text/html:Teen Night at Academic Technology and Wellness Academy<br />\nAges 10-15
LOCATION:122 E. Robinson St.\, Gaffney\, SC
UID:e.1277.4568
SEQUENCE:3
DTSTAMP:20260424T183638Z
URL:http://services.cherokeechamber.org/events/details/teen-night-4568
END:VEVENT

END:VCALENDAR
