BEGIN:VCALENDAR
VERSION:2.0
PRODID:-//ChamberMaster//Event Calendar 2.0//EN
METHOD:PUBLISH
X-PUBLISHED-TTL:P3D
REFRESH-INTERVAL:P3D
CALSCALE:GREGORIAN
BEGIN:VEVENT
DTSTART:20190307T223000Z
DTEND:20190308T000000Z
X-MICROSOFT-CDO-ALLDAYEVENT:FALSE
SUMMARY:TeamCFA: Cherokee Q & A Meeting
DESCRIPTION:
X-ALT-DESC;FMTTYPE=text/html:
LOCATION:Cherokee County Public Library 300 E. Rutledge Ave.\, Gaffney\, SC
UID:e.1277.4560
SEQUENCE:3
DTSTAMP:20260424T183633Z
URL:http://services.cherokeechamber.org/events/details/teamcfa-cherokee-q-a-meeting-4560
END:VEVENT

END:VCALENDAR
