BEGIN:VCALENDAR
VERSION:2.0
PRODID:-//ChamberMaster//Event Calendar 2.0//EN
METHOD:PUBLISH
X-PUBLISHED-TTL:P3D
REFRESH-INTERVAL:P3D
CALSCALE:GREGORIAN
BEGIN:VEVENT
DTSTART:20181027T130000Z
DTEND:20181027T160000Z
X-MICROSOFT-CDO-ALLDAYEVENT:FALSE
SUMMARY:Strutt Your Mutt
DESCRIPTION:Dress up your pup and parade in front of judges for prizes!
X-ALT-DESC;FMTTYPE=text/html:Dress up your pup and parade in front of judges for prizes!
LOCATION:Gaffney Visitors Center & Art Gallery 210 W. Frederick St.\, Gaffney\, SC
UID:e.1277.4501
SEQUENCE:3
DTSTAMP:20260425T010959Z
URL:http://services.cherokeechamber.org/events/details/strutt-your-mutt-4501
END:VEVENT

END:VCALENDAR
