BEGIN:VCALENDAR
VERSION:2.0
PRODID:-//ChamberMaster//Event Calendar 2.0//EN
METHOD:PUBLISH
X-PUBLISHED-TTL:P3D
REFRESH-INTERVAL:P3D
CALSCALE:GREGORIAN
BEGIN:VEVENT
DTSTART:20171109T230000Z
DTEND:20171113T020000Z
X-MICROSOFT-CDO-ALLDAYEVENT:FALSE
SUMMARY:Stories Mt Grandmother Told Me
DESCRIPTION:Stories My Grandmother Told Me\n\n The Cherokee Historical and Preservation Society
X-ALT-DESC;FMTTYPE=text/html:Stories My Grandmother Told Me<br />\n&#8203\;The Cherokee Historical and Preservation Society
LOCATION:History Museum 301 College Drive
UID:e.1277.3056
SEQUENCE:3
DTSTAMP:20260425T163511Z
URL:http://services.cherokeechamber.org/events/details/stories-mt-grandmother-told-me-3056
END:VEVENT

END:VCALENDAR
