BEGIN:VCALENDAR
VERSION:2.0
PRODID:-//ChamberMaster//Event Calendar 2.0//EN
METHOD:PUBLISH
X-PUBLISHED-TTL:P3D
REFRESH-INTERVAL:P3D
CALSCALE:GREGORIAN
BEGIN:VEVENT
DTSTART;VALUE=DATE:20180302
DTEND;VALUE=DATE:20180304
TRANSP:TRANSPARENT
X-MICROSOFT-CDO-ALLDAYEVENT:TRUE
SUMMARY:Store Fixture Sale
DESCRIPTION:Friday\, March 2nd\, 8am til 6pm Saturday\, March 3rd\, 8am until 3pm. Gondolas\, glass showcases\, gift shop displays\, glass cutter\, wire baskets\, outdoor display cart\, slat wall displays\, cash register counters\, other misc items. Everything is priced to sell. Located in building behind Buford St. Ace Hardware\, 113 W Buford St. Gaffney.
X-ALT-DESC;FMTTYPE=text/html:Friday\, March 2nd\, 8am til 6pm Saturday\, March 3rd\, 8am until 3pm. Gondolas\, glass showcases\, gift shop displays\, glass cutter\, wire baskets\, outdoor display cart\, slat wall displays\, cash register counters\, other misc items. Everything is priced to sell. Located in building behind Buford St. Ace Hardware\, 113 W Buford St. Gaffney.&nbsp\;
LOCATION:
UID:e.1277.3084
SEQUENCE:3
DTSTAMP:20260425T112809Z
URL:http://services.cherokeechamber.org/events/details/store-fixture-sale-3084
END:VEVENT

END:VCALENDAR
