BEGIN:VCALENDAR
VERSION:2.0
PRODID:-//ChamberMaster//Event Calendar 2.0//EN
METHOD:PUBLISH
X-PUBLISHED-TTL:P3D
REFRESH-INTERVAL:P3D
CALSCALE:GREGORIAN
BEGIN:VEVENT
DTSTART:20180125T223000Z
DTEND:20180126T000000Z
X-MICROSOFT-CDO-ALLDAYEVENT:FALSE
SUMMARY:Speed Networking Spotlight on Charitable Organizations.
DESCRIPTION:Business After Hours\n\nSpeed Networking Spotlight on Charitable Organizations.
X-ALT-DESC;FMTTYPE=text/html:Business After Hours<br />\nSpeed Networking Spotlight on Charitable Organizations.
LOCATION:YMCA Gaffney 390 Whelchel Road
UID:e.1277.3063
SEQUENCE:3
DTSTAMP:20260425T140408Z
URL:http://services.cherokeechamber.org/events/details/speed-networking-spotlight-on-charitable-organizations-3063
END:VEVENT

END:VCALENDAR
