BEGIN:VCALENDAR
VERSION:2.0
PRODID:-//ChamberMaster//Event Calendar 2.0//EN
METHOD:PUBLISH
X-PUBLISHED-TTL:P3D
REFRESH-INTERVAL:P3D
CALSCALE:GREGORIAN
BEGIN:VEVENT
DTSTART:20190207T213000Z
DTEND:20190207T223000Z
X-MICROSOFT-CDO-ALLDAYEVENT:FALSE
SUMMARY:Special Guest Speakers at Academic Technology and Wellness Academy
DESCRIPTION:Pastors Ronald and Anitonette Frazier from Cherokee County to speak to the youth at ATWA
X-ALT-DESC;FMTTYPE=text/html:Pastors Ronald and Anitonette Frazier from Cherokee County to speak to the youth at ATWA&nbsp\;
LOCATION:122 E. Robinson Street\, Gaffney\, SC
UID:e.1277.4546
SEQUENCE:3
DTSTAMP:20260424T194230Z
URL:http://services.cherokeechamber.org/events/details/special-guest-speakers-at-academic-technology-and-wellness-academy-4546
END:VEVENT

END:VCALENDAR
