BEGIN:VCALENDAR
VERSION:2.0
PRODID:-//ChamberMaster//Event Calendar 2.0//EN
METHOD:PUBLISH
X-PUBLISHED-TTL:P3D
REFRESH-INTERVAL:P3D
CALSCALE:GREGORIAN
BEGIN:VEVENT
DTSTART:20180817T180000Z
DTEND:20180817T200000Z
X-MICROSOFT-CDO-ALLDAYEVENT:FALSE
SUMMARY:Senior Health Fair
DESCRIPTION:The Senior Health Fair is open to the public and a FREE event. We will have 15 health care vendors to provide information\, screenings and giveaways. Please consider joining us for this event!
X-ALT-DESC;FMTTYPE=text/html:The Senior Health Fair is open to the public and a FREE event. We will have 15 health care vendors to provide information\, screenings and giveaways. Please consider joining us for this event!
LOCATION:Magnolias of Gaffney 101 Park Court Gaffney\, SC 29341
UID:e.1277.4336
SEQUENCE:3
DTSTAMP:20260425T041527Z
URL:http://services.cherokeechamber.org/events/details/senior-health-fair-4336
END:VEVENT

END:VCALENDAR
