BEGIN:VCALENDAR
VERSION:2.0
PRODID:-//ChamberMaster//Event Calendar 2.0//EN
METHOD:PUBLISH
X-PUBLISHED-TTL:P3D
REFRESH-INTERVAL:P3D
CALSCALE:GREGORIAN
BEGIN:VEVENT
DTSTART:20190223T160000Z
DTEND:20190223T190000Z
X-MICROSOFT-CDO-ALLDAYEVENT:FALSE
SUMMARY:Senior Citizen Day at Academic Technology and Wellness Academy
DESCRIPTION:FREE Bingo 11-12\n\nFREE Lunch 12-2
X-ALT-DESC;FMTTYPE=text/html:FREE Bingo 11-12<br />\nFREE Lunch 12-2
LOCATION:122 E. Robinson St.\, Gaffney
UID:e.1277.4548
SEQUENCE:3
DTSTAMP:20260424T194225Z
URL:http://services.cherokeechamber.org/events/details/senior-citizen-day-at-academic-technology-and-wellness-academy-4548
END:VEVENT

END:VCALENDAR
