BEGIN:VCALENDAR
VERSION:2.0
PRODID:-//ChamberMaster//Event Calendar 2.0//EN
METHOD:PUBLISH
X-PUBLISHED-TTL:P3D
REFRESH-INTERVAL:P3D
CALSCALE:GREGORIAN
BEGIN:VEVENT
DTSTART:20180321T140000Z
DTEND:20180321T190000Z
X-MICROSOFT-CDO-ALLDAYEVENT:FALSE
SUMMARY:SCC Spring Career Fair
DESCRIPTION:Registration is now open for Spartanburg Community College Spring Career Fair. Employers can register at this link while students can go to the link for more information and see a list of participating employers:  https://www.collegecentral.com/CCNEngine/LiveEvents/LiveEvents.cfm?EventID=3349
X-ALT-DESC;FMTTYPE=text/html:Registration is now open for Spartanburg Community College Spring Career Fair. Employers can register at this link while students can go to the link for more information and see a list of participating employers:&nbsp\; https://www.collegecentral.com/CCNEngine/LiveEvents/LiveEvents.cfm?EventID=3349&nbsp\;
LOCATION:
UID:e.1277.3086
SEQUENCE:3
DTSTAMP:20260425T112631Z
URL:http://services.cherokeechamber.org/events/details/scc-spring-career-fair-3086
END:VEVENT

END:VCALENDAR
