BEGIN:VCALENDAR
VERSION:2.0
PRODID:-//ChamberMaster//Event Calendar 2.0//EN
METHOD:PUBLISH
X-PUBLISHED-TTL:P3D
REFRESH-INTERVAL:P3D
CALSCALE:GREGORIAN
BEGIN:VEVENT
DTSTART:20190326T133000Z
DTEND:20190326T160000Z
X-MICROSOFT-CDO-ALLDAYEVENT:FALSE
SUMMARY:SBDC Satellite Office @ The Chamber
DESCRIPTION:Scott Beardmore\, Business Consultant
X-ALT-DESC;FMTTYPE=text/html:Scott Beardmore\, Business Consultant<br />\n&nbsp\;
LOCATION:Chamber of Commerce 225 S. Limestone Street\, Gaffney\, SC
UID:e.1277.4557
SEQUENCE:3
DTSTAMP:20260424T183552Z
URL:http://services.cherokeechamber.org/events/details/sbdc-satellite-office-the-chamber-4557
END:VEVENT

END:VCALENDAR
