BEGIN:VCALENDAR
VERSION:2.0
PRODID:-//ChamberMaster//Event Calendar 2.0//EN
METHOD:PUBLISH
X-PUBLISHED-TTL:P3D
REFRESH-INTERVAL:P3D
CALSCALE:GREGORIAN
BEGIN:VEVENT
DTSTART:20190226T143000Z
DTEND:20190226T170000Z
X-MICROSOFT-CDO-ALLDAYEVENT:FALSE
SUMMARY:SBDC Satellite Office at the Chamber
DESCRIPTION:Scott Beardmore\, Business Consultant\n\nSBDC
X-ALT-DESC;FMTTYPE=text/html:Scott Beardmore\, Business Consultant<br />\nSBDC
LOCATION:Chamber of Commerce 225 S Limestone St.\, Gaffney\, SC
UID:e.1277.4559
SEQUENCE:3
DTSTAMP:20260424T194055Z
URL:http://services.cherokeechamber.org/events/details/sbdc-satellite-office-at-the-chamber-4559
END:VEVENT

END:VCALENDAR
