BEGIN:VCALENDAR
VERSION:2.0
PRODID:-//ChamberMaster//Event Calendar 2.0//EN
METHOD:PUBLISH
X-PUBLISHED-TTL:P3D
REFRESH-INTERVAL:P3D
CALSCALE:GREGORIAN
BEGIN:VEVENT
DTSTART:20190312T133000Z
DTEND:20190312T160000Z
X-MICROSOFT-CDO-ALLDAYEVENT:FALSE
SUMMARY:SBDC Satellite Office at The Chamber
DESCRIPTION:Scott Beardmore\, Business Consultant \n\nSBDC
X-ALT-DESC;FMTTYPE=text/html:Scott Beardmore\, Business Consultant&nbsp\;<br />\nSBDC
LOCATION:Cherokee County Chamber 225 S. Limestone Street\, Gaffnehy\, SC
UID:e.1277.4558
SEQUENCE:3
DTSTAMP:20260424T183632Z
URL:http://services.cherokeechamber.org/events/details/sbdc-satellite-office-at-the-chamber-4558
END:VEVENT

END:VCALENDAR
