BEGIN:VCALENDAR
VERSION:2.0
PRODID:-//ChamberMaster//Event Calendar 2.0//EN
METHOD:PUBLISH
X-PUBLISHED-TTL:P3D
REFRESH-INTERVAL:P3D
CALSCALE:GREGORIAN
BEGIN:VEVENT
DTSTART:20180317T210000Z
DTEND:20180317T220000Z
X-MICROSOFT-CDO-ALLDAYEVENT:FALSE
SUMMARY:Run for the Clovers
DESCRIPTION:5K Run Downtown Gaffney
X-ALT-DESC;FMTTYPE=text/html:5K Run Downtown Gaffney
LOCATION:Gaffney Visitors Center
UID:e.1277.3083
SEQUENCE:3
DTSTAMP:20260425T112121Z
URL:http://services.cherokeechamber.org/events/details/run-for-the-clovers-3083
END:VEVENT

END:VCALENDAR
