BEGIN:VCALENDAR
VERSION:2.0
PRODID:-//ChamberMaster//Event Calendar 2.0//EN
METHOD:PUBLISH
X-PUBLISHED-TTL:P3D
REFRESH-INTERVAL:P3D
CALSCALE:GREGORIAN
BEGIN:VEVENT
DTSTART:20181207T160000Z
DTEND:20181207T170000Z
X-MICROSOFT-CDO-ALLDAYEVENT:FALSE
SUMMARY:Ribbon Cutting for The UPS Store
DESCRIPTION:
X-ALT-DESC;FMTTYPE=text/html:
LOCATION:1429 W. Floyd Baker Blvd. Gaffney\, SC
UID:e.1277.4531
SEQUENCE:3
DTSTAMP:20260424T235633Z
URL:http://services.cherokeechamber.org/events/details/ribbon-cutting-for-the-ups-store-4531
END:VEVENT

END:VCALENDAR
