BEGIN:VCALENDAR
VERSION:2.0
PRODID:-//ChamberMaster//Event Calendar 2.0//EN
METHOD:PUBLISH
X-PUBLISHED-TTL:P3D
REFRESH-INTERVAL:P3D
CALSCALE:GREGORIAN
BEGIN:VEVENT
DTSTART:20170411T200000Z
DTEND:20170411T210000Z
X-MICROSOFT-CDO-ALLDAYEVENT:FALSE
SUMMARY:Ribbon Cutting at Wishes Family Travel
DESCRIPTION:Ribbon Cutting @ Wishes Family Travel
X-ALT-DESC;FMTTYPE=text/html:Ribbon Cutting @ Wishes Family Travel
LOCATION:1252 Overbrook Drive\, Suite 11 Gaffney\, SC 29341
UID:e.1277.3016
SEQUENCE:3
DTSTAMP:20260426T011848Z
URL:http://services.cherokeechamber.org/events/details/ribbon-cutting-at-wishes-family-travel-3016
END:VEVENT

END:VCALENDAR
