BEGIN:VCALENDAR
VERSION:2.0
PRODID:-//ChamberMaster//Event Calendar 2.0//EN
METHOD:PUBLISH
X-PUBLISHED-TTL:P3D
REFRESH-INTERVAL:P3D
CALSCALE:GREGORIAN
BEGIN:VEVENT
DTSTART:20170419T200000Z
DTEND:20170419T210000Z
X-MICROSOFT-CDO-ALLDAYEVENT:FALSE
SUMMARY:Ribbon Cutting at Cricket Wireless
DESCRIPTION:Ribbon Cutting Cricket Wireless
X-ALT-DESC;FMTTYPE=text/html:Ribbon Cutting Cricket Wireless
LOCATION:1427 W. Floyd Baker Blvd Gaffney\, SC 29341
UID:e.1277.3014
SEQUENCE:3
DTSTAMP:20260426T011326Z
URL:http://services.cherokeechamber.org/events/details/ribbon-cutting-at-cricket-wireless-3014
END:VEVENT

END:VCALENDAR
