BEGIN:VCALENDAR
VERSION:2.0
PRODID:-//ChamberMaster//Event Calendar 2.0//EN
METHOD:PUBLISH
X-PUBLISHED-TTL:P3D
REFRESH-INTERVAL:P3D
CALSCALE:GREGORIAN
BEGIN:VEVENT
DTSTART:20170511T203000Z
DTEND:20170511T203000Z
X-MICROSOFT-CDO-ALLDAYEVENT:FALSE
SUMMARY:Ribbon Cutting
DESCRIPTION:Ribbon Cutting\n\nWishes Family Travel
X-ALT-DESC;FMTTYPE=text/html:Ribbon Cutting<br />\nWishes Family Travel
LOCATION:1252 Overbrook Drive.\, Suite 11 Gaffney
UID:e.1277.3023
SEQUENCE:3
DTSTAMP:20260426T000329Z
URL:http://services.cherokeechamber.org/events/details/ribbon-cutting-3023
END:VEVENT

END:VCALENDAR
