BEGIN:VCALENDAR
VERSION:2.0
PRODID:-//ChamberMaster//Event Calendar 2.0//EN
METHOD:PUBLISH
X-PUBLISHED-TTL:P3D
REFRESH-INTERVAL:P3D
CALSCALE:GREGORIAN
BEGIN:VEVENT
DTSTART:20181007T140000Z
DTEND:20181007T200000Z
X-MICROSOFT-CDO-ALLDAYEVENT:FALSE
SUMMARY:Revolutionary War Weekend - Kings Mountain National Military Park
DESCRIPTION:238th Anniversary of Kings Mountain\, Living History Encampment & Firing Demonstrations\, Marchers arriving at amphitheater & present the story of the Overmountain Men
X-ALT-DESC;FMTTYPE=text/html:238th Anniversary of Kings Mountain\, Living History Encampment &amp\; Firing Demonstrations\, Marchers arriving at amphitheater &amp\; present the story of the Overmountain Men
LOCATION:
UID:e.1277.4506
SEQUENCE:3
DTSTAMP:20260425T011210Z
URL:http://services.cherokeechamber.org/events/details/revolutionary-war-weekend-kings-mountain-national-military-park-4506
END:VEVENT

END:VCALENDAR
