BEGIN:VCALENDAR
VERSION:2.0
PRODID:-//ChamberMaster//Event Calendar 2.0//EN
METHOD:PUBLISH
X-PUBLISHED-TTL:P3D
REFRESH-INTERVAL:P3D
CALSCALE:GREGORIAN
BEGIN:VEVENT
DTSTART:20181006T130000Z
DTEND:20181006T230000Z
X-MICROSOFT-CDO-ALLDAYEVENT:FALSE
SUMMARY:Revolutionary War Weekend - Kings Mountain National Military Park
DESCRIPTION:Firing demonstrations\, tours\, living history encampment\, childrens activities\, music\, & evening lantern tour
X-ALT-DESC;FMTTYPE=text/html:Firing demonstrations\, tours\, living history encampment\, childrens activities\, music\, &amp\; evening lantern tour
LOCATION:
UID:e.1277.4505
SEQUENCE:3
DTSTAMP:20260425T011204Z
URL:http://services.cherokeechamber.org/events/details/revolutionary-war-weekend-kings-mountain-national-military-park-4505
END:VEVENT

END:VCALENDAR
