BEGIN:VCALENDAR
VERSION:2.0
PRODID:-//ChamberMaster//Event Calendar 2.0//EN
METHOD:PUBLISH
X-PUBLISHED-TTL:P3D
REFRESH-INTERVAL:P3D
CALSCALE:GREGORIAN
BEGIN:VEVENT
DTSTART:20181006T190000Z
DTEND:20181007T000000Z
X-MICROSOFT-CDO-ALLDAYEVENT:FALSE
SUMMARY:Revolutionary War Weekend - Cowpens National Battlefield
DESCRIPTION:Rev. War Wax Museum\, SCETV Movie Loops\, SCETV 60th Anniversary\, Sons of Liberty\, NPS Program\, The Night Before Kings Mountain Outdoor Drama (OVTA)
X-ALT-DESC;FMTTYPE=text/html:Rev. War Wax Museum\, SCETV Movie Loops\, SCETV 60th Anniversary\, Sons of Liberty\, NPS Program\, The Night Before Kings Mountain Outdoor Drama (OVTA)
LOCATION:
UID:e.1277.4504
SEQUENCE:3
DTSTAMP:20260425T011204Z
URL:http://services.cherokeechamber.org/events/details/revolutionary-war-weekend-cowpens-national-battlefield-4504
END:VEVENT

END:VCALENDAR
