BEGIN:VCALENDAR
VERSION:2.0
PRODID:-//ChamberMaster//Event Calendar 2.0//EN
METHOD:PUBLISH
X-PUBLISHED-TTL:P3D
REFRESH-INTERVAL:P3D
CALSCALE:GREGORIAN
BEGIN:VEVENT
DTSTART:20180324T140000Z
DTEND:20180324T160000Z
X-MICROSOFT-CDO-ALLDAYEVENT:FALSE
SUMMARY:Revolutionary War Wax Museum
DESCRIPTION:Presented by Grassy Pond Elementary 4th Graders
X-ALT-DESC;FMTTYPE=text/html:Presented by Grassy Pond Elementary 4th Graders
LOCATION:Gaffney Visitors Center & Art Gallery 201 West Frederick Street\, Gaffney\, SC
UID:e.1277.3092
SEQUENCE:3
DTSTAMP:20260425T112241Z
URL:http://services.cherokeechamber.org/events/details/revolutionary-war-wax-museum-3092
END:VEVENT

END:VCALENDAR
