BEGIN:VCALENDAR
VERSION:2.0
PRODID:-//ChamberMaster//Event Calendar 2.0//EN
METHOD:PUBLISH
X-PUBLISHED-TTL:P3D
REFRESH-INTERVAL:P3D
CALSCALE:GREGORIAN
BEGIN:VEVENT
DTSTART:20171010T140000Z
DTEND:20171010T150000Z
X-MICROSOFT-CDO-ALLDAYEVENT:FALSE
SUMMARY:Republic Finance Re Location Ribbon Cutting
DESCRIPTION:Republic Finance Re Location Ribbon Cutting
X-ALT-DESC;FMTTYPE=text/html:Republic Finance Re Location Ribbon Cutting
LOCATION:1201 W. Floyd Baker Blvd. Gaffney\, SC 29340
UID:e.1277.3045
SEQUENCE:3
DTSTAMP:20260425T173423Z
URL:http://services.cherokeechamber.org/events/details/republic-finance-re-location-ribbon-cutting-3045
END:VEVENT

END:VCALENDAR
