BEGIN:VCALENDAR
VERSION:2.0
PRODID:-//ChamberMaster//Event Calendar 2.0//EN
METHOD:PUBLISH
X-PUBLISHED-TTL:P3D
REFRESH-INTERVAL:P3D
CALSCALE:GREGORIAN
BEGIN:VEVENT
DTSTART:20181005T213000Z
DTEND:20181005T230000Z
X-MICROSOFT-CDO-ALLDAYEVENT:FALSE
SUMMARY:Remember Kings Mountain Reception & Artist Talk
DESCRIPTION:
X-ALT-DESC;FMTTYPE=text/html:
LOCATION:Gaffney Visitors Center 210 W. Frederick St.\, Gaffney\, SC
UID:e.1277.4502
SEQUENCE:3
DTSTAMP:20260425T010958Z
URL:http://services.cherokeechamber.org/events/details/remember-kings-mountain-reception-artist-talk-4502
END:VEVENT

END:VCALENDAR
