BEGIN:VCALENDAR
VERSION:2.0
PRODID:-//ChamberMaster//Event Calendar 2.0//EN
METHOD:PUBLISH
X-PUBLISHED-TTL:P3D
REFRESH-INTERVAL:P3D
CALSCALE:GREGORIAN
BEGIN:VEVENT
DTSTART:20181029T213000Z
DTEND:20181029T230000Z
X-MICROSOFT-CDO-ALLDAYEVENT:FALSE
SUMMARY:ReGenesis Ribbon Cutting & Grand Opening
DESCRIPTION:ReGenesis Health Care cordially invites you to the Ribbon Cutting and Grand Opening of Dr. J. W. Sanders\, Sr. Facility
X-ALT-DESC;FMTTYPE=text/html:ReGenesis Health Care cordially invites you to the Ribbon Cutting and Grand Opening of Dr. J. W. Sanders\, Sr. Facility
LOCATION:1341 N. LImestone\, Gaffney\, SC
UID:e.1277.4515
SEQUENCE:3
DTSTAMP:20260425T011138Z
URL:http://services.cherokeechamber.org/events/details/regenesis-ribbon-cutting-grand-opening-4515
END:VEVENT

END:VCALENDAR
