BEGIN:VCALENDAR
VERSION:2.0
PRODID:-//ChamberMaster//Event Calendar 2.0//EN
METHOD:PUBLISH
X-PUBLISHED-TTL:P3D
REFRESH-INTERVAL:P3D
CALSCALE:GREGORIAN
BEGIN:VEVENT
DTSTART:20180227T130000Z
DTEND:20180227T143000Z
X-MICROSOFT-CDO-ALLDAYEVENT:FALSE
SUMMARY:Power Breakfast Series
DESCRIPTION:Power Breakfast Series: Award Winning Business of Integrity Winners Take the Stage.\n \n\n\nBBB Business of Integrity Awards recognize businesses that go "above and beyond" serving their customers\, employees and communities. Don't miss the opportunity to hear directly from BBB Business of Integrity award recipients as they take the stage to share their commitment to customer service\, marketplace ethics and community service.\n\n Start 2018 off by attending an informal\, interactive\, and networking event where attendees will leave with valuable tips and examples that can be implemented within their business.
X-ALT-DESC;FMTTYPE=text/html:Power Breakfast Series: Award Winning Business of Integrity Winners Take the Stage.\n<div style="text-align: left\; text-transform: none\; text-indent: 0px\; letter-spacing: normal\; font-style: normal\; font-variant: normal\; font-weight: 400\; text-decoration: none\; word-spacing: 0px\; white-space: normal\; orphans: 2\; -webkit-text-stroke-width: 0px\; background-color: transparent\;">&nbsp\;</div>\n\n<div style="background-color: transparent\; color: rgb(34\, 34\, 34)\; font-family: arial\,sans-serif\; font-size: 12.8px\; font-style: normal\; font-variant: normal\; font-weight: 400\; letter-spacing: normal\; orphans: 2\; text-align: left\; text-decoration: none\; text-indent: 0px\; text-transform: none\; -webkit-text-stroke-width: 0px\; white-space: normal\; word-spacing: 0px\;">\n<p style="background-color: rgb(254\, 254\, 254)\; box-sizing: content-box\; color: rgb(51\, 51\, 51)\; font-family: Arial\,Helvetica\,sans-serif\; font-size: 15px\; margin-bottom: 10px\; margin-left: 0px\; margin-right: 0px\; margin-top: 0px\; text-align: center\;">BBB Business of Integrity Awards recognize businesses that go &quot\;above and beyond&quot\; serving their customers\, employees and communities. Don&#39\;t miss the opportunity to hear directly from BBB Business of Integrity award recipients as they take the stage to share their commitment to customer service\, marketplace ethics and community service.</p>\n\n<p style="background-color: rgb(254\, 254\, 254)\; box-sizing: content-box\; color: rgb(51\, 51\, 51)\; font-family: Arial\,Helvetica\,sans-serif\; font-size: 15px\; margin-bottom: 10px\; margin-left: 0px\; margin-right: 0px\; margin-top: 0px\; text-align: center\;">&nbsp\;Start 2018 off by attending an informal\, interactive\, and networking event where attendees will leave with valuable tips and examples that can be implemented within their business.</p>\n</div>\n
LOCATION:Greenville Water "Community Room" 517 West Washington Street Greenville\, SC 29601
UID:e.1277.3077
SEQUENCE:3
DTSTAMP:20260425T123550Z
URL:http://services.cherokeechamber.org/events/details/power-breakfast-series-3077
END:VEVENT

END:VCALENDAR
