BEGIN:VCALENDAR
VERSION:2.0
PRODID:-//ChamberMaster//Event Calendar 2.0//EN
METHOD:PUBLISH
X-PUBLISHED-TTL:P3D
REFRESH-INTERVAL:P3D
CALSCALE:GREGORIAN
BEGIN:VEVENT
DTSTART:20171017T203000Z
DTEND:20171017T223000Z
X-MICROSOFT-CDO-ALLDAYEVENT:FALSE
SUMMARY:Plugged In Blacksburg
DESCRIPTION:Plugged In Blacksburg KNOW (2) Event\n\n Come find out what KNOW (2)  is doing in your community.
X-ALT-DESC;FMTTYPE=text/html:Plugged In Blacksburg KNOW (2) Event<br />\n&#8203\;Come find out what KNOW (2)&nbsp\; is doing in your community.
LOCATION:Blacksburg History Museum N Shelby Street Blacksburg
UID:e.1277.3054
SEQUENCE:3
DTSTAMP:20260425T172951Z
URL:http://services.cherokeechamber.org/events/details/plugged-in-blacksburg-3054
END:VEVENT

END:VCALENDAR
