BEGIN:VCALENDAR
VERSION:2.0
PRODID:-//ChamberMaster//Event Calendar 2.0//EN
METHOD:PUBLISH
X-PUBLISHED-TTL:P3D
REFRESH-INTERVAL:P3D
CALSCALE:GREGORIAN
BEGIN:VEVENT
DTSTART:20190312T120000Z
DTEND:20190312T130000Z
X-MICROSOFT-CDO-ALLDAYEVENT:FALSE
SUMMARY:Pastor Appreciation Breakfast
DESCRIPTION:Pastor Appreciation Breakfast\n\nOpen to ALL Pastors
X-ALT-DESC;FMTTYPE=text/html:Pastor Appreciation Breakfast<br />\nOpen to ALL Pastors
LOCATION:Magnolias of Gaffney 101 Park Ct.\, Gaffney\, SC
UID:e.1277.4553
SEQUENCE:3
DTSTAMP:20260424T183513Z
URL:http://services.cherokeechamber.org/events/details/pastor-appreciation-breakfast-4553
END:VEVENT

END:VCALENDAR
