BEGIN:VCALENDAR
VERSION:2.0
PRODID:-//ChamberMaster//Event Calendar 2.0//EN
METHOD:PUBLISH
X-PUBLISHED-TTL:P3D
REFRESH-INTERVAL:P3D
CALSCALE:GREGORIAN
BEGIN:VEVENT
DTSTART:20181210T220000Z
DTEND:20181211T003000Z
X-MICROSOFT-CDO-ALLDAYEVENT:FALSE
SUMMARY:Pancakes for Preservation
DESCRIPTION:Pancakes for Preservation \n\nSpecial Guest - SANTA
X-ALT-DESC;FMTTYPE=text/html:Pancakes for Preservation&nbsp\;<br />\nSpecial Guest - SANTA
LOCATION:Cherokee County History and Arts Museum 301 College Dr.
UID:e.1277.4524
SEQUENCE:3
DTSTAMP:20260424T223239Z
URL:http://services.cherokeechamber.org/events/details/pancakes-for-preservation-4524
END:VEVENT

END:VCALENDAR
