BEGIN:VCALENDAR
VERSION:2.0
PRODID:-//ChamberMaster//Event Calendar 2.0//EN
METHOD:PUBLISH
X-PUBLISHED-TTL:P3D
REFRESH-INTERVAL:P3D
CALSCALE:GREGORIAN
BEGIN:VEVENT
DTSTART:20171209T130000Z
DTEND:20171209T160000Z
X-MICROSOFT-CDO-ALLDAYEVENT:FALSE
SUMMARY:Pancakes for Preservation
DESCRIPTION:Cherokee Historical and Preservation Society\n\nPancakes for Preservation
X-ALT-DESC;FMTTYPE=text/html:Cherokee Historical and Preservation Society<br />\nPancakes for Preservation
LOCATION:Cherokee County History and Arts Museum 301 College Drive Gaffney
UID:e.1277.3059
SEQUENCE:3
DTSTAMP:20260425T152026Z
URL:http://services.cherokeechamber.org/events/details/pancakes-for-preservation-3059
END:VEVENT

END:VCALENDAR
