BEGIN:VCALENDAR
VERSION:2.0
PRODID:-//ChamberMaster//Event Calendar 2.0//EN
METHOD:PUBLISH
X-PUBLISHED-TTL:P3D
REFRESH-INTERVAL:P3D
CALSCALE:GREGORIAN
BEGIN:VEVENT
DTSTART:20190116T000000Z
DTEND:20190116T020000Z
X-MICROSOFT-CDO-ALLDAYEVENT:FALSE
SUMMARY:Nutritional Navigation: A Grocery Store Tour - SRHS
DESCRIPTION:Do you have trouble sorting through the many products at the grocery store? Is it hard to eat healthy on a budget? Join dietitian Kerri Stewart\, RD\, LD for an interactive tour of your local grocery store.
X-ALT-DESC;FMTTYPE=text/html:<blockquote style="color: rgb(34\, 34\, 34)\; font-family: Arial\, Helvetica\, sans-serif\; font-size: small\; font-style: normal\;" type="cite">\n<div dir="ltr">\n<div dir="ltr" id="m_-1071785532719537286divtagdefaultwrapper" style="font-size: 12pt\; font-family: Calibri\, Helvetica\, sans-serif\;">\n<div dir="ltr" id="m_-1071785532719537286divtagdefaultwrapper" style="font-size: 12pt\; font-family: Calibri\, Helvetica\, sans-serif\, EmojiFont\, &quot\;Apple Color Emoji&quot\;\, &quot\;Segoe UI Emoji&quot\;\, NotoColorEmoji\, &quot\;Segoe UI Symbol&quot\;\, &quot\;Android Emoji&quot\;\, EmojiSymbols\;">\n<div id="m_-1071785532719537286LPBorder_GT_15440304307550.701297511455456" style="margin-bottom: 20px\; overflow: auto\; width: 719.333px\;">\n<table cellspacing="0" id="m_-1071785532719537286LPContainer_15440304307510.9370474898896588" role="presentation" style="width: 647.333px\; overflow: auto\; padding-top: 20px\; padding-bottom: 20px\; margin-top: 20px\; border-top: 1px dotted rgb(200\, 200\, 200)\; border-bottom: 1px dotted rgb(200\, 200\, 200)\;">\n	<tbody>\n		<tr style="border-spacing: 0px\;" valign="top">\n			<td colspan="2" id="m_-1071785532719537286TextCell_15440304307520.5353825496824502" style="font-family: Roboto\, RobotoDraft\, Helvetica\, Arial\, sans-serif\; margin: 0px\; vertical-align: top\; padding: 0px\;">\n			<div id="m_-1071785532719537286LPDescription_15440304307540.01438364403377479" style="color: rgb(102\, 102\, 102)\; font-family: wf_segoe-ui_normal\, &quot\;Segoe UI&quot\;\, &quot\;Segoe WP&quot\;\, Tahoma\, Arial\, sans-serif\; font-size: 14px\; line-height: 20px\; max-height: 100px\; overflow: hidden\;">Do you have trouble sorting through the many products at the grocery store? Is it hard to eat healthy on a budget? Join dietitian Kerri Stewart\, RD\, LD for an interactive tour of your local grocery store.</div>\n			</td>\n		</tr>\n	</tbody>\n</table>\n</div>\n</div>\n</div>\n</div>\n</blockquote>\n
LOCATION:BiLo Floyd Baker Blvd. Gaffney\, SC
UID:e.1277.4532
SEQUENCE:3
DTSTAMP:20260424T210636Z
URL:http://services.cherokeechamber.org/events/details/nutritional-navigation-a-grocery-store-tour-srhs-4532
END:VEVENT

END:VCALENDAR
