BEGIN:VCALENDAR
VERSION:2.0
PRODID:-//ChamberMaster//Event Calendar 2.0//EN
METHOD:PUBLISH
X-PUBLISHED-TTL:P3D
REFRESH-INTERVAL:P3D
CALSCALE:GREGORIAN
BEGIN:VEVENT
DTSTART:20181013T173000Z
DTEND:20181013T190000Z
X-MICROSOFT-CDO-ALLDAYEVENT:FALSE
SUMMARY:Mission of Grace Adult Ed Transportation Third Annual Golf Tournament
DESCRIPTION:
X-ALT-DESC;FMTTYPE=text/html:
LOCATION:Cherokee National Golf Club
UID:e.1277.4490
SEQUENCE:3
DTSTAMP:20260425T011518Z
URL:http://services.cherokeechamber.org/events/details/mission-of-grace-adult-ed-transportation-third-annual-golf-tournament-4490
END:VEVENT

END:VCALENDAR
