BEGIN:VCALENDAR
VERSION:2.0
PRODID:-//ChamberMaster//Event Calendar 2.0//EN
METHOD:PUBLISH
X-PUBLISHED-TTL:P3D
REFRESH-INTERVAL:P3D
CALSCALE:GREGORIAN
BEGIN:VEVENT
DTSTART:20181102T203000Z
DTEND:20181102T213000Z
X-MICROSOFT-CDO-ALLDAYEVENT:FALSE
SUMMARY:Meet and Greet Gov. Henry McMaster
DESCRIPTION:Come join Governor Henry McMaster along with Lt. Governor Nominee Pamela Evette and other local elected officials for an Agriculture Rally at Cherokee Feed & Seed!\n\n\n\n \n\n\n\nYou will have a chance to meet and talk with the Governor and Lt. Governor nominee Pamela Evette\, as they partake on their statewide bus tour.\n\n\n\n \n\n\n\nWhen:\n\n\n\nFriday\, November 2\n\n\n\nProgram Starts: 4:30 PM\n\n\n\n \n\n\n\nWhere:\n\n\n\nCherokee Feed and Supply\n\n\n\n1911 Cherokee Ave. \n\n\n\nGaffney\, SC 29340
X-ALT-DESC;FMTTYPE=text/html:<div data-block="true" data-editor="6a553" data-offset-key="1u00s-0-0" style="font-family: Helvetica\, Arial\, sans-serif\; color: rgb(29\, 33\, 41)\; font-size: 14px\; white-space: pre-wrap\;">\n<div class="_1mf _1mj" data-offset-key="1u00s-0-0" style="position: relative\; direction: ltr\; font-family: inherit\;"><span data-offset-key="1u00s-0-0" style="font-family: inherit\;">Come join Governor Henry McMaster along with Lt. Governor Nominee Pamela Evette and other local elected officials for an Agriculture Rally at Cherokee Feed &amp\; Seed!</span></div>\n</div>\n\n<div data-block="true" data-editor="6a553" data-offset-key="eq7bs-0-0" style="font-family: Helvetica\, Arial\, sans-serif\; color: rgb(29\, 33\, 41)\; font-size: 14px\; white-space: pre-wrap\;">\n<div class="_1mf _1mj" data-offset-key="eq7bs-0-0" style="position: relative\; direction: ltr\; font-family: inherit\;">&nbsp\;</div>\n</div>\n\n<div data-block="true" data-editor="6a553" data-offset-key="cj0gr-0-0" style="font-family: Helvetica\, Arial\, sans-serif\; color: rgb(29\, 33\, 41)\; font-size: 14px\; white-space: pre-wrap\;">\n<div class="_1mf _1mj" data-offset-key="cj0gr-0-0" style="position: relative\; direction: ltr\; font-family: inherit\;"><span data-offset-key="cj0gr-0-0" style="font-family: inherit\;">You will have a chance to meet and talk with the Governor and Lt. Governor nominee Pamela Evette\, as they partake on their statewide bus tour.</span></div>\n</div>\n\n<div data-block="true" data-editor="6a553" data-offset-key="4f4o2-0-0" style="font-family: Helvetica\, Arial\, sans-serif\; color: rgb(29\, 33\, 41)\; font-size: 14px\; white-space: pre-wrap\;">\n<div class="_1mf _1mj" data-offset-key="4f4o2-0-0" style="position: relative\; direction: ltr\; font-family: inherit\;">&nbsp\;</div>\n</div>\n\n<div data-block="true" data-editor="6a553" data-offset-key="4oo6r-0-0" style="font-family: Helvetica\, Arial\, sans-serif\; color: rgb(29\, 33\, 41)\; font-size: 14px\; white-space: pre-wrap\;">\n<div class="_1mf _1mj" data-offset-key="4oo6r-0-0" style="position: relative\; direction: ltr\; font-family: inherit\;"><span data-offset-key="4oo6r-0-0" style="font-family: inherit\;">When:</span></div>\n</div>\n\n<div data-block="true" data-editor="6a553" data-offset-key="89jfi-0-0" style="font-family: Helvetica\, Arial\, sans-serif\; color: rgb(29\, 33\, 41)\; font-size: 14px\; white-space: pre-wrap\;">\n<div class="_1mf _1mj" data-offset-key="89jfi-0-0" style="position: relative\; direction: ltr\; font-family: inherit\;"><span data-offset-key="89jfi-0-0" style="font-family: inherit\;">Friday\, November 2</span></div>\n</div>\n\n<div data-block="true" data-editor="6a553" data-offset-key="esl2u-0-0" style="font-family: Helvetica\, Arial\, sans-serif\; color: rgb(29\, 33\, 41)\; font-size: 14px\; white-space: pre-wrap\;">\n<div class="_1mf _1mj" data-offset-key="esl2u-0-0" style="position: relative\; direction: ltr\; font-family: inherit\;"><span data-offset-key="esl2u-0-0" style="font-family: inherit\;">Program Starts: 4:30 PM</span></div>\n</div>\n\n<div data-block="true" data-editor="6a553" data-offset-key="89av6-0-0" style="font-family: Helvetica\, Arial\, sans-serif\; color: rgb(29\, 33\, 41)\; font-size: 14px\; white-space: pre-wrap\;">\n<div class="_1mf _1mj" data-offset-key="89av6-0-0" style="position: relative\; direction: ltr\; font-family: inherit\;">&nbsp\;</div>\n</div>\n\n<div data-block="true" data-editor="6a553" data-offset-key="1kem2-0-0" style="font-family: Helvetica\, Arial\, sans-serif\; color: rgb(29\, 33\, 41)\; font-size: 14px\; white-space: pre-wrap\;">\n<div class="_1mf _1mj" data-offset-key="1kem2-0-0" style="position: relative\; direction: ltr\; font-family: inherit\;"><span data-offset-key="1kem2-0-0" style="font-family: inherit\;">Where:</span></div>\n</div>\n\n<div data-block="true" data-editor="6a553" data-offset-key="bjof4-0-0" style="font-family: Helvetica\, Arial\, sans-serif\; color: rgb(29\, 33\, 41)\; font-size: 14px\; white-space: pre-wrap\;">\n<div class="_1mf _1mj" data-offset-key="bjof4-0-0" style="position: relative\; direction: ltr\; font-family: inherit\;"><span data-offset-key="bjof4-0-0" style="font-family: inherit\;">Cherokee Feed and Supply</span></div>\n</div>\n\n<div data-block="true" data-editor="6a553" data-offset-key="1obut-0-0" style="font-family: Helvetica\, Arial\, sans-serif\; color: rgb(29\, 33\, 41)\; font-size: 14px\; white-space: pre-wrap\;">\n<div class="_1mf _1mj" data-offset-key="1obut-0-0" style="position: relative\; direction: ltr\; font-family: inherit\;"><span data-offset-key="1obut-0-0" style="font-family: inherit\;">1911 Cherokee Ave. </span></div>\n</div>\n\n<div data-block="true" data-editor="6a553" data-offset-key="9r5gp-0-0" style="font-family: Helvetica\, Arial\, sans-serif\; color: rgb(29\, 33\, 41)\; font-size: 14px\; white-space: pre-wrap\;">\n<div class="_1mf _1mj" data-offset-key="9r5gp-0-0" style="position: relative\; direction: ltr\; font-family: inherit\;"><span data-offset-key="9r5gp-0-0" style="font-family: inherit\;">Gaffney\, SC 29340</span></div>\n</div>\n
LOCATION:
UID:e.1277.4517
SEQUENCE:3
DTSTAMP:20260424T234928Z
URL:http://services.cherokeechamber.org/events/details/meet-and-greet-gov-henry-mcmaster-4517
END:VEVENT

END:VCALENDAR
