BEGIN:VCALENDAR
VERSION:2.0
PRODID:-//ChamberMaster//Event Calendar 2.0//EN
METHOD:PUBLISH
X-PUBLISHED-TTL:P3D
REFRESH-INTERVAL:P3D
CALSCALE:GREGORIAN
BEGIN:VEVENT
DTSTART:20180927T150000Z
DTEND:20180927T180000Z
X-MICROSOFT-CDO-ALLDAYEVENT:FALSE
SUMMARY:Meet and Greet
DESCRIPTION:You'll be able to meet the students at the new Institute as well as the SCC students.  The Institute of Innovation is the new Technology Center now located on the campus of SCC- Cherokee. They have doubled their enrollment from nearly 600 students to now over 1200 students! It would be a great start to building some relationships and future (or now) employees.\n\nThis event costs nothing and lunch is even provided for you!  We hope you will take advantage of this unique opportunity.\n\n\n\nIf you're interested in attending this event you can simply register here:\n\nhttps://www.collegecentral.com/CCNEngine/LiveEvents/LiveEvents.cfm?EventID=3631\n\n \n\nThis event costs nothing and lunch is even provided for you!  We hope you will take advantage of this unique opportunity.
X-ALT-DESC;FMTTYPE=text/html:<span style="color: rgb(34\, 34\, 34)\; font-family: Arial\, Helvetica\, sans-serif\; font-size: small\;">You&rsquo\;ll be able to meet the students at the new Institute as well as the SCC students.&nbsp\; The Institute of Innovation is the new Technology Center now located on the campus of SCC- Cherokee. They have doubled their enrollment from nearly 600 students to now over 1200 students! It would be a great start to building some relationships and future (or now) employees.<br />\nThis event costs nothing and lunch is even provided for you! &nbsp\;We hope you will take advantage of this unique opportunity.</span><br />\n<br />\nIf you&rsquo\;re interested in attending this event you can simply register here:<br />\n<a data-saferedirecturl="https://www.google.com/url?q=https://www.collegecentral.com/CCNEngine/LiveEvents/LiveEvents.cfm?EventID%3D3631&amp\;source=gmail&amp\;ust=1537374274516000&amp\;usg=AFQjCNEpLXapbIDDhE_0PiJuvgg_hQexvg" href="https://www.collegecentral.com/CCNEngine/LiveEvents/LiveEvents.cfm?EventID=3631" style="color:rgb(17\, 85\, 204)\;" target="_blank">https://www.collegecentral.<wbr />com/CCNEngine/LiveEvents/<wbr />LiveEvents.cfm?EventID=3631</a><br />\n&nbsp\;<br />\nThis event costs nothing and lunch is even provided for you! &nbsp\;We hope you will take advantage of this unique opportunity.<br />\n&nbsp\;
LOCATION:Spartanburg Community College Cherokee Campus
UID:e.1277.4495
SEQUENCE:3
DTSTAMP:20260425T024443Z
URL:http://services.cherokeechamber.org/events/details/meet-and-greet-4495
END:VEVENT

END:VCALENDAR
