BEGIN:VCALENDAR
VERSION:2.0
PRODID:-//ChamberMaster//Event Calendar 2.0//EN
METHOD:PUBLISH
X-PUBLISHED-TTL:P3D
REFRESH-INTERVAL:P3D
CALSCALE:GREGORIAN
BEGIN:VEVENT
DTSTART:20190208T153000Z
DTEND:20190208T163000Z
X-MICROSOFT-CDO-ALLDAYEVENT:FALSE
SUMMARY:Mealz2shape Ribbon Cutting
DESCRIPTION:Ribbon Cutting Ceremony for Mealz2shape
X-ALT-DESC;FMTTYPE=text/html:Ribbon Cutting Ceremony for Mealz2shape
LOCATION:1844 Old Georgia Hwy.\,Gaffney\, SC
UID:e.1277.4537
SEQUENCE:3
DTSTAMP:20260424T194054Z
URL:http://services.cherokeechamber.org/events/details/mealz2shape-ribbon-cutting-4537
END:VEVENT

END:VCALENDAR
