BEGIN:VCALENDAR
VERSION:2.0
PRODID:-//ChamberMaster//Event Calendar 2.0//EN
METHOD:PUBLISH
X-PUBLISHED-TTL:P3D
REFRESH-INTERVAL:P3D
CALSCALE:GREGORIAN
BEGIN:VEVENT
DTSTART:20180325T150000Z
DTEND:20180325T180000Z
X-MICROSOFT-CDO-ALLDAYEVENT:FALSE
SUMMARY:Meals on Wheels March for Meals Benefit
DESCRIPTION:Cherokee County Meals on Wheels March for Meals Benefit Palm Sunday. A buffet feast at Daddy Joe's includes Daddy Joe's famous BBQ\, Calabash Chicken\, Slaw & BBQ Slaw\, Baked Beans\, and hushpuppies.Adults $12 Buffet / Kids Plate $6 Calabash Chicken and Fries.\n\nBake sale as well until 1:30pm. Purchase tickets at Cherokee County Meals on Wheels office 403 W Montgomery Street or call 864.487.2730. Tickets can also be purchased at the door.
X-ALT-DESC;FMTTYPE=text/html:Cherokee County Meals on Wheels March for Meals Benefit Palm Sunday. A buffet feast at Daddy Joe&#39\;s includes Daddy Joe&#39\;s famous BBQ\, Calabash Chicken\, Slaw &amp\; BBQ Slaw\, Baked Beans\, and hushpuppies.Adults $12 Buffet / Kids Plate&nbsp\;$6 Calabash Chicken and Fries.<br />\nBake sale as well until 1:30pm. Purchase tickets at Cherokee County Meals on Wheels office 403 W Montgomery Street or call 864.487.2730. Tickets can also be purchased at the door.
LOCATION:Daddy Joe's Beach House BBQ and Grill.
UID:e.1277.3082
SEQUENCE:3
DTSTAMP:20260425T112636Z
URL:http://services.cherokeechamber.org/events/details/meals-on-wheels-march-for-meals-benefit-3082
END:VEVENT

END:VCALENDAR
