BEGIN:VCALENDAR
VERSION:2.0
PRODID:-//ChamberMaster//Event Calendar 2.0//EN
METHOD:PUBLISH
X-PUBLISHED-TTL:P3D
REFRESH-INTERVAL:P3D
CALSCALE:GREGORIAN
BEGIN:VEVENT
DTSTART:20170617T140000Z
DTEND:20170617T193000Z
X-MICROSOFT-CDO-ALLDAYEVENT:FALSE
SUMMARY:Meals on Wheels 4th Annual Dice Run
DESCRIPTION:Dice Run Proceeds and Donations to Benefit Cherokee County Meals On Wheels
X-ALT-DESC;FMTTYPE=text/html:Dice Run Proceeds and Donations to Benefit Cherokee County Meals On Wheels
LOCATION:Cherokee County Veteran's Appreciation Park 200 S. Logan St
UID:e.1277.3028
SEQUENCE:3
DTSTAMP:20260425T224859Z
URL:http://services.cherokeechamber.org/events/details/meals-on-wheels-4th-annual-dice-run-3028
END:VEVENT

END:VCALENDAR
