BEGIN:VCALENDAR
VERSION:2.0
PRODID:-//ChamberMaster//Event Calendar 2.0//EN
METHOD:PUBLISH
X-PUBLISHED-TTL:P3D
REFRESH-INTERVAL:P3D
CALSCALE:GREGORIAN
BEGIN:VEVENT
DTSTART:20180919T160000Z
DTEND:20180919T170000Z
X-MICROSOFT-CDO-ALLDAYEVENT:FALSE
SUMMARY:Mary Black Hospital System MAN UP - Prostate Cancer Awareness Month
DESCRIPTION:One in nine men will be diagnosed with prostate cancer during his lifetime\, according to the American Cancer Society. Early detection is key. September is National Prostate Cancer Awareness month\, so join us as urologist Paul Zubel\, D.O.\, discusses early detection\, diagnosis and treatment of prostate cancer.
X-ALT-DESC;FMTTYPE=text/html:One in nine men will be diagnosed with prostate cancer during his lifetime\, according to the American Cancer Society. Early detection is key. September is National Prostate Cancer Awareness month\, so join us as urologist Paul Zubel\, D.O.\, discusses early detection\, diagnosis and treatment of prostate cancer.&nbsp\;
LOCATION:Mary Black Health System Gaffney Private Dining Room
UID:e.1277.4349
SEQUENCE:3
DTSTAMP:20260425T024731Z
URL:http://services.cherokeechamber.org/events/details/mary-black-hospital-system-man-up-prostate-cancer-awareness-month-4349
END:VEVENT

END:VCALENDAR
